BEGIN:VCALENDAR
VERSION:2.0
PRODID:-//Lodge Creek Yacht Club - ECPv6.15.20//NONSGML v1.0//EN
CALSCALE:GREGORIAN
METHOD:PUBLISH
X-WR-CALNAME:Lodge Creek Yacht Club
X-ORIGINAL-URL:https://www.lodgecreekyachtclub.com
X-WR-CALDESC:Events for Lodge Creek Yacht Club
REFRESH-INTERVAL;VALUE=DURATION:PT1H
X-Robots-Tag:noindex
X-PUBLISHED-TTL:PT1H
BEGIN:VTIMEZONE
TZID:America/New_York
BEGIN:DAYLIGHT
TZOFFSETFROM:-0500
TZOFFSETTO:-0400
TZNAME:EDT
DTSTART:20240310T070000
END:DAYLIGHT
BEGIN:STANDARD
TZOFFSETFROM:-0400
TZOFFSETTO:-0500
TZNAME:EST
DTSTART:20241103T060000
END:STANDARD
BEGIN:DAYLIGHT
TZOFFSETFROM:-0500
TZOFFSETTO:-0400
TZNAME:EDT
DTSTART:20250309T070000
END:DAYLIGHT
BEGIN:STANDARD
TZOFFSETFROM:-0400
TZOFFSETTO:-0500
TZNAME:EST
DTSTART:20251102T060000
END:STANDARD
BEGIN:DAYLIGHT
TZOFFSETFROM:-0500
TZOFFSETTO:-0400
TZNAME:EDT
DTSTART:20260308T070000
END:DAYLIGHT
BEGIN:STANDARD
TZOFFSETFROM:-0400
TZOFFSETTO:-0500
TZNAME:EST
DTSTART:20261101T060000
END:STANDARD
END:VTIMEZONE
BEGIN:VEVENT
DTSTART;TZID=America/New_York:20250517T170000
DTEND;TZID=America/New_York:20250517T200000
DTSTAMP:20260424T065225
CREATED:20250428T151725Z
LAST-MODIFIED:20250501T104558Z
UID:8223-1747501200-1747512000@www.lodgecreekyachtclub.com
SUMMARY:2025 B Dock Function
DESCRIPTION:B  Dock Presents the Return of “Cheeseburger in Paradise”\nA Tribute to Jimmy Buffet\n \n\n\n\nSaturday\, May 17\, 2024\n5:00 Margaritas\, Appetizers\, Games\, Music\nFollowed by Dinner* \, Dessert\, Fellowship\n We’ll kick off the fun with Bob Woodburn’s delicious  margaritas\, appetizers\, corn hole competitions\, and a game! Jimmy Buffet will be playing so wear your best Parrothead gear and come join the fun. Hope to see you there
URL:https://www.lodgecreekyachtclub.com/functions/2025-b-dock-function/
LOCATION:LCYC Clubhouse\, 1161 Melrose Rd\, Lottsburg\, VA\, 22435\, United States
END:VEVENT
END:VCALENDAR