BEGIN:VCALENDAR
VERSION:2.0
PRODID:-//Lodge Creek Yacht Club - ECPv6.15.20//NONSGML v1.0//EN
CALSCALE:GREGORIAN
METHOD:PUBLISH
X-WR-CALNAME:Lodge Creek Yacht Club
X-ORIGINAL-URL:https://www.lodgecreekyachtclub.com
X-WR-CALDESC:Events for Lodge Creek Yacht Club
REFRESH-INTERVAL;VALUE=DURATION:PT1H
X-Robots-Tag:noindex
X-PUBLISHED-TTL:PT1H
BEGIN:VTIMEZONE
TZID:America/New_York
BEGIN:DAYLIGHT
TZOFFSETFROM:-0500
TZOFFSETTO:-0400
TZNAME:EDT
DTSTART:20240310T070000
END:DAYLIGHT
BEGIN:STANDARD
TZOFFSETFROM:-0400
TZOFFSETTO:-0500
TZNAME:EST
DTSTART:20241103T060000
END:STANDARD
BEGIN:DAYLIGHT
TZOFFSETFROM:-0500
TZOFFSETTO:-0400
TZNAME:EDT
DTSTART:20250309T070000
END:DAYLIGHT
BEGIN:STANDARD
TZOFFSETFROM:-0400
TZOFFSETTO:-0500
TZNAME:EST
DTSTART:20251102T060000
END:STANDARD
BEGIN:DAYLIGHT
TZOFFSETFROM:-0500
TZOFFSETTO:-0400
TZNAME:EDT
DTSTART:20260308T070000
END:DAYLIGHT
BEGIN:STANDARD
TZOFFSETFROM:-0400
TZOFFSETTO:-0500
TZNAME:EST
DTSTART:20261101T060000
END:STANDARD
END:VTIMEZONE
BEGIN:VEVENT
DTSTART;TZID=America/New_York:20250427T093000
DTEND;TZID=America/New_York:20250427T110000
DTSTAMP:20260425T084755
CREATED:20250324T113309Z
LAST-MODIFIED:20250324T114238Z
UID:8182-1745746200-1745751600@www.lodgecreekyachtclub.com
SUMMARY:2025 Blessing of the Fleet Breakfast
DESCRIPTION:Join us for the 2025 LCYC Blessing of the Fleet! \nWe’ve weathered an eventful winter\, and now the spring has sprung\, which means it’s time for the Blessing of the Fleet!  Join us Sunday April 27 for the 2024 Blessing of the Fleet Ceremony and Breakfast! To round out our weekend of festivities\, the 2025 LCYC Bridge will host the ceremonies\, which will begin at 0930. Breakfast will be served when the ceremonies conclude\, approximately 1030 or so. We look forward to kicking off this season with you all soon! \nPlease note that this RSVP is only for the Blessing of the Fleet Breakfast on Sunday.  If you plan on coming to the Pot Luck dinner on Saturday April 26\, no need to RSVP; just show up at the Clubhouse with a dish of your choice.
URL:https://www.lodgecreekyachtclub.com/functions/2025-blessing-of-the-fleet-breakfast/
LOCATION:LCYC Clubhouse\, 1161 Melrose Rd\, Lottsburg\, VA\, 22435\, United States
END:VEVENT
END:VCALENDAR