BEGIN:VCALENDAR
VERSION:2.0
PRODID:-//Lodge Creek Yacht Club - ECPv6.15.20//NONSGML v1.0//EN
CALSCALE:GREGORIAN
METHOD:PUBLISH
X-ORIGINAL-URL:https://www.lodgecreekyachtclub.com
X-WR-CALDESC:Events for Lodge Creek Yacht Club
REFRESH-INTERVAL;VALUE=DURATION:PT1H
X-Robots-Tag:noindex
X-PUBLISHED-TTL:PT1H
BEGIN:VTIMEZONE
TZID:America/New_York
BEGIN:DAYLIGHT
TZOFFSETFROM:-0500
TZOFFSETTO:-0400
TZNAME:EDT
DTSTART:20230312T070000
END:DAYLIGHT
BEGIN:STANDARD
TZOFFSETFROM:-0400
TZOFFSETTO:-0500
TZNAME:EST
DTSTART:20231105T060000
END:STANDARD
BEGIN:DAYLIGHT
TZOFFSETFROM:-0500
TZOFFSETTO:-0400
TZNAME:EDT
DTSTART:20240310T070000
END:DAYLIGHT
BEGIN:STANDARD
TZOFFSETFROM:-0400
TZOFFSETTO:-0500
TZNAME:EST
DTSTART:20241103T060000
END:STANDARD
BEGIN:DAYLIGHT
TZOFFSETFROM:-0500
TZOFFSETTO:-0400
TZNAME:EDT
DTSTART:20250309T070000
END:DAYLIGHT
BEGIN:STANDARD
TZOFFSETFROM:-0400
TZOFFSETTO:-0500
TZNAME:EST
DTSTART:20251102T060000
END:STANDARD
END:VTIMEZONE
BEGIN:VEVENT
DTSTART;TZID=America/New_York:20240817T170000
DTEND;TZID=America/New_York:20240817T200000
DTSTAMP:20260424T212237
CREATED:20240716T195217Z
LAST-MODIFIED:20240803T151946Z
UID:7842-1723914000-1723924800@www.lodgecreekyachtclub.com
SUMMARY:2024 A Dock Function - Southern BBQ!
DESCRIPTION:A Dock Function – Southern BBQ! \nSouthern BBQ Night \nPulled pork\, Mac ‘n cheese\, baked beans\, cole slaw\, watermelon. \nSaturday\, August 17\, 2024 \nCocktail Hour: 5PM \nDinner: 6PM \n——–
URL:https://www.lodgecreekyachtclub.com/functions/2024-a-dock-function/
LOCATION:LCYC Clubhouse\, 1161 Melrose Rd\, Lottsburg\, VA\, 22435\, United States
END:VEVENT
END:VCALENDAR