BEGIN:VCALENDAR
VERSION:2.0
PRODID:-//Lodge Creek Yacht Club - ECPv6.15.20//NONSGML v1.0//EN
CALSCALE:GREGORIAN
METHOD:PUBLISH
X-WR-CALNAME:Lodge Creek Yacht Club
X-ORIGINAL-URL:https://www.lodgecreekyachtclub.com
X-WR-CALDESC:Events for Lodge Creek Yacht Club
REFRESH-INTERVAL;VALUE=DURATION:PT1H
X-Robots-Tag:noindex
X-PUBLISHED-TTL:PT1H
BEGIN:VTIMEZONE
TZID:America/New_York
BEGIN:DAYLIGHT
TZOFFSETFROM:-0500
TZOFFSETTO:-0400
TZNAME:EDT
DTSTART:20220313T070000
END:DAYLIGHT
BEGIN:STANDARD
TZOFFSETFROM:-0400
TZOFFSETTO:-0500
TZNAME:EST
DTSTART:20221106T060000
END:STANDARD
BEGIN:DAYLIGHT
TZOFFSETFROM:-0500
TZOFFSETTO:-0400
TZNAME:EDT
DTSTART:20230312T070000
END:DAYLIGHT
BEGIN:STANDARD
TZOFFSETFROM:-0400
TZOFFSETTO:-0500
TZNAME:EST
DTSTART:20231105T060000
END:STANDARD
BEGIN:DAYLIGHT
TZOFFSETFROM:-0500
TZOFFSETTO:-0400
TZNAME:EDT
DTSTART:20240310T070000
END:DAYLIGHT
BEGIN:STANDARD
TZOFFSETFROM:-0400
TZOFFSETTO:-0500
TZNAME:EST
DTSTART:20241103T060000
END:STANDARD
BEGIN:DAYLIGHT
TZOFFSETFROM:-0500
TZOFFSETTO:-0400
TZNAME:EDT
DTSTART:20250309T070000
END:DAYLIGHT
BEGIN:STANDARD
TZOFFSETFROM:-0400
TZOFFSETTO:-0500
TZNAME:EST
DTSTART:20251102T060000
END:STANDARD
END:VTIMEZONE
BEGIN:VEVENT
DTSTART;TZID=America/New_York:20240817T170000
DTEND;TZID=America/New_York:20240817T200000
DTSTAMP:20260423T184350
CREATED:20240716T195217Z
LAST-MODIFIED:20240803T151946Z
UID:7842-1723914000-1723924800@www.lodgecreekyachtclub.com
SUMMARY:2024 A Dock Function - Southern BBQ!
DESCRIPTION:A Dock Function – Southern BBQ! \nSouthern BBQ Night \nPulled pork\, Mac ‘n cheese\, baked beans\, cole slaw\, watermelon. \nSaturday\, August 17\, 2024 \nCocktail Hour: 5PM \nDinner: 6PM \n——–
URL:https://www.lodgecreekyachtclub.com/functions/2024-a-dock-function/
LOCATION:LCYC Clubhouse\, 1161 Melrose Rd\, Lottsburg\, VA\, 22435\, United States
END:VEVENT
BEGIN:VEVENT
DTSTART;TZID=America/New_York:20240720T140000
DTEND;TZID=America/New_York:20240720T200000
DTSTAMP:20260423T184350
CREATED:20240709T134328Z
LAST-MODIFIED:20240709T171914Z
UID:7823-1721484000-1721505600@www.lodgecreekyachtclub.com
SUMMARY:2024 Pool Party
DESCRIPTION:The return of the Pool Party is Saturday July 20!  Everyone had such an awesome time last year we decided to do it again\, courtesy of your 2024 LCYC Bridge.  We’re going to do a repeat with burgers and dogs with all the fixings\, and Kenny‘s bringing his 12 foot waterslide for all the little ones. Rumor has it\, there will even be a friendly competitive bull riding contest! Come on and see if you can stay on that thang for six seconds! \nThe inflatable water slide will be available by 3 PM. \n-Commodore Bobby Andrade Jr \n \n \n 
URL:https://www.lodgecreekyachtclub.com/functions/2024-pool-party/
LOCATION:Olversons Pool\, 1161 Melrose Rd\, Lottsburg\, VA\, 22511\, United States
END:VEVENT
BEGIN:VEVENT
DTSTART;TZID=America/New_York:20240706T120000
DTEND;TZID=America/New_York:20240706T150000
DTSTAMP:20260423T184350
CREATED:20240616T233622Z
LAST-MODIFIED:20240618T131715Z
UID:7804-1720267200-1720278000@www.lodgecreekyachtclub.com
SUMMARY:2024 Independence Day Celebrations
DESCRIPTION:We’re bringing back the Boat Parade this year !  Prizes will be given for Best Decorated Boat! \nSaturday\, July 6\, 2024 \nIce Cream Social – 12:00PM \nBoat Parade – 2:00PM \nNo Registrations necessary – just show up and have some fun!
URL:https://www.lodgecreekyachtclub.com/functions/2024-independence-day/
LOCATION:LCYC Clubhouse\, 1161 Melrose Rd\, Lottsburg\, VA\, 22435\, United States
END:VEVENT
BEGIN:VEVENT
DTSTART;TZID=America/New_York:20240622T170000
DTEND;TZID=America/New_York:20240622T210000
DTSTAMP:20260423T184350
CREATED:20240529T141253Z
LAST-MODIFIED:20240529T141309Z
UID:7769-1719075600-1719090000@www.lodgecreekyachtclub.com
SUMMARY:2024 C Dock Function
DESCRIPTION:The C Dock Everything Chesapeake\nNNK Low Country Boil\nAppetizers with beer & wine: 5-6pm\nDinner: 6-7pm\nDessert with live music: 7-9pm\n\n50/50 Raffle and Everything Chesapeake gift basket raffle\nPlease RSVP no later than Monday\, June 17th\nHope to see ya at “The Rivah”
URL:https://www.lodgecreekyachtclub.com/functions/2024-c-dock-function/
LOCATION:LCYC Clubhouse\, 1161 Melrose Rd\, Lottsburg\, VA\, 22435\, United States
END:VEVENT
BEGIN:VEVENT
DTSTART;TZID=America/New_York:20240518T170000
DTEND;TZID=America/New_York:20240518T220000
DTSTAMP:20260423T184350
CREATED:20240423T131322Z
LAST-MODIFIED:20240515T112809Z
UID:7748-1716051600-1716069600@www.lodgecreekyachtclub.com
SUMMARY:2024 B Dock Function
DESCRIPTION:B  Dock Presents “Cheeseburger in Paradise”\nA Tribute to Jimmy Buffet\n \n\n\n\nSaturday\, May 18\, 2024\n5:00 Margaritas\, Appetizers\, Games\, Music\nFollowed by Dinner* \, Dessert\, Fellowship\n \nWear your Parrot Head and Margaritaville Outfits!\n \n \n* Meatlover and vegetarian fare will be served\n50/50 Raffle                    Door prize\nHope to see everyone there!
URL:https://www.lodgecreekyachtclub.com/functions/2024-b-dock-function/
LOCATION:LCYC Clubhouse\, 1161 Melrose Rd\, Lottsburg\, VA\, 22435\, United States
END:VEVENT
BEGIN:VEVENT
DTSTART;TZID=America/New_York:20240421T090000
DTEND;TZID=America/New_York:20240421T120000
DTSTAMP:20260423T184350
CREATED:20240326T163916Z
LAST-MODIFIED:20240329T134446Z
UID:7668-1713690000-1713700800@www.lodgecreekyachtclub.com
SUMMARY:2024 Blessing of the Fleet
DESCRIPTION:Join us for the 2024 LCYC Blessing of the Fleet! \nStick around Callao after the Change of Watch and join us Sunday April 21 for the 2024 Blessing of the Fleet Ceremony and Breakfast! To round out our fun-filled weekend of festivities\, the 2024 LCYC Bridge will host the ceremonies\, which will begin at 0930. Breakfast will be served when the ceremonies conclude\, approximately 1030 or so. We look forward to kicking off this season with you all soon!
URL:https://www.lodgecreekyachtclub.com/functions/2024-blessing-of-the-fleet/
LOCATION:LCYC Clubhouse\, 1161 Melrose Rd\, Lottsburg\, VA\, 22435\, United States
END:VEVENT
BEGIN:VEVENT
DTSTART;TZID=America/New_York:20240420T160000
DTEND;TZID=America/New_York:20240420T230000
DTSTAMP:20260423T184350
CREATED:20240329T135312Z
LAST-MODIFIED:20240329T141304Z
UID:7727-1713628800-1713654000@www.lodgecreekyachtclub.com
SUMMARY:2024 LCYC Change of Watch
DESCRIPTION:The COW this year will be held at the Moose Lodge in Callao.  \n Tickets are $60 per person for the entire weekend festivities. We will run a free raffle for all who attend to be eligible for one lucky winner to get their ticket cost back!  \n\n\nFriday from 6:00-9:00 pm we will have the Commodore’s Reception up at the clubhouse!\nSaturday from 4:00 pm-11:00 pm will be our COW dinner & dance\n\nThis will include live music & sticking to true D-Dock Fashion there will be fried Oysters\n\n\nSunday Morning will be breakfast & our Blessing of the Fleet!\n\nI hope you all can make it to celebrate the end of a great season as well as the start of our 2024 season! \nIMPORTANT:  REGISTRATION FORM AND CHECKS MUST BE RECEIVED NO LATER THAN APRIL 5\, 2024\n\n\nhttps://www.lodgecreekyachtclub.com/wp-content/uploads/2024/03/LCYC-2024-COW-Registration-Form.pdf
URL:https://www.lodgecreekyachtclub.com/functions/2024-lcyc-change-of-watch/
LOCATION:Callao Moose Lodge\, 968 Northumberland Hwy\, Callao\, 22435\, United States
END:VEVENT
BEGIN:VEVENT
DTSTART;TZID=America/New_York:20240419T180000
DTEND;TZID=America/New_York:20240419T210000
DTSTAMP:20260423T184350
CREATED:20240329T141719Z
LAST-MODIFIED:20240329T141719Z
UID:7736-1713549600-1713560400@www.lodgecreekyachtclub.com
SUMMARY:2024 LCYC COW - Commodore's Reception
DESCRIPTION:The COW this year will be held at the Moose Lodge in Callao. \nTickets are $60 per person for the entire weekend festivities. We will run a free raffle for all who attend to be eligible for one lucky winner to get their ticket cost back! \n\n\nFriday from 6:00-9:00 pm we will have the Commodore’s Reception up at the clubhouse!\nSaturday from 4:00 pm-11:00 pm will be our COW dinner & dance\n\nThis will include live music & sticking to true D-Dock Fashion there will be fried Oysters\n\n\nSunday Morning will be breakfast & our Blessing of the Fleet!\n\nI hope you all can make it to celebrate the end of a great season as well as the start of our 2024 season! \nIMPORTANT:  REGISTRATION FORM AND CHECKS MUST BE RECEIVED NO LATER THAN APRIL 5\, 2024\n\n\nhttps://www.lodgecreekyachtclub.com/wp-content/uploads/2024/03/LCYC-2024-COW-Registration-Form.pdf
URL:https://www.lodgecreekyachtclub.com/functions/2024-lcyc-cow-commodores-reception/
LOCATION:LCYC Clubhouse\, 1161 Melrose Rd\, Lottsburg\, VA\, 22435\, United States
END:VEVENT
BEGIN:VEVENT
DTSTART;TZID=America/New_York:20231021T160000
DTEND;TZID=America/New_York:20231021T220000
DTSTAMP:20260423T184350
CREATED:20230821T000246Z
LAST-MODIFIED:20230918T135348Z
UID:7388-1697904000-1697925600@www.lodgecreekyachtclub.com
SUMMARY:2023 D Dock Oyster Roast
DESCRIPTION:Join us Saturday October 21\, 2023 for the return of the D Dock Oyster Roast! \nIt’s been 3 years without an Oyster Roast\, and we’re bringing it back due to popular demand.  D Dock looks forward to bringing back a fan favorite\, and we sure do hope y’all are as excited as we are! \nDon’t forget to bring your oyster knives! \nCocktail hour: 4:00PM \nDinner: 5:00PM \n————————————
URL:https://www.lodgecreekyachtclub.com/functions/2023_oyster_roast/
LOCATION:LCYC Clubhouse\, 1161 Melrose Rd\, Lottsburg\, VA\, 22435\, United States
END:VEVENT
BEGIN:VEVENT
DTSTART;TZID=America/New_York:20230916T170000
DTEND;TZID=America/New_York:20230916T220000
DTSTAMP:20260423T184350
CREATED:20230821T000012Z
LAST-MODIFIED:20230828T184023Z
UID:7384-1694883600-1694901600@www.lodgecreekyachtclub.com
SUMMARY:2023 E Dock Crab Feast
DESCRIPTION:Join us Saturday September 16th for the E Dock Crab Feast! \nLet’s get Crackin! \nCocktail Hour: 5:00PM \nDinner: 6:00PM \n——————————–
URL:https://www.lodgecreekyachtclub.com/functions/2023-e-dock-crab-feast/
LOCATION:LCYC Clubhouse\, 1161 Melrose Rd\, Lottsburg\, VA\, 22435\, United States
END:VEVENT
BEGIN:VEVENT
DTSTART;TZID=America/New_York:20230819T140000
DTEND;TZID=America/New_York:20230819T200000
DTSTAMP:20260423T184350
CREATED:20230724T131127Z
LAST-MODIFIED:20230802T112312Z
UID:7354-1692453600-1692475200@www.lodgecreekyachtclub.com
SUMMARY:2023 Pool Party
DESCRIPTION:Saturday August 19\, 2023 \nThe Pool at Olversons Marina \nJoin us for a Pool Party\, presented by your 2023 LCYC Bridge!  Food and drinks will be served\, plus a 12ft inflatable water slide for the kids (adult and minors) to enjoy! \n2:00pm: Inflatable slide will be available \n5:00pm: BBQ Cookout \n\nPlease RSVP using the button above. One registration per family\, please provide accurate counts for your entire party. We look forward to seeing you!
URL:https://www.lodgecreekyachtclub.com/functions/2023-pool-party/
LOCATION:Olversons Pool\, 1161 Melrose Rd\, Lottsburg\, VA\, 22511\, United States
END:VEVENT
BEGIN:VEVENT
DTSTART;TZID=America/New_York:20230715T110000
DTEND;TZID=America/New_York:20230715T170000
DTSTAMP:20260423T184350
CREATED:20230424T000349Z
LAST-MODIFIED:20230531T165242Z
UID:6920-1689418800-1689440400@www.lodgecreekyachtclub.com
SUMMARY:Pirate Beach Float In
DESCRIPTION:Pirate Beach Float In \nJoin our new Fleet Captain Heath on Saturday July 15\, 2023 for the Pirate Beach Float In! \nIt was a great time last year\, and we hope to have an even bigger attendance this year.  Let’s welcome our new Fleet Captain by showing him a good turnout!  See ya at the beach! \nLat/Long: 38°01’43.9″N 76°33’45.8″W
URL:https://www.lodgecreekyachtclub.com/functions/july-2023-beach-party/
LOCATION:Pirate Beach\, 2CHP+GWR Kinsale\, Virginia\, USA\, Kinsale\, VA\, United States
END:VEVENT
BEGIN:VEVENT
DTSTART;TZID=America/New_York:20230610T170000
DTEND;TZID=America/New_York:20230610T210000
DTSTAMP:20260423T184350
CREATED:20230424T000208Z
LAST-MODIFIED:20230523T113104Z
UID:6917-1686416400-1686430800@www.lodgecreekyachtclub.com
SUMMARY:C Dock Function - St. Paddy's in June
DESCRIPTION:Join us for the C Dock Function! \n \n\nSaturday June 10\, 2023 \nLCYC Clubhouse \nWear your favorite color of green!\n(or be pinched) \nAnd join the C dock shenanigans\nCelebrating Luck of the Irish\n“St. Paddy’s in June”\nIrish beers\, wine & Irish soda (aka green koolaid)\n5:00pm: Irish appetizers\n6:00pm: Sheppard’s pie\, cabbage\, beer soda bread\, & hot dogs\nIrish dessert to follow \nGames: Beer pong with Irish soda\nIrish music by Rodney \n\nPlease RSVP using the button above. One registration per family\, please provide accurate counts for your entire party. We look forward to seeing you!
URL:https://www.lodgecreekyachtclub.com/functions/2023-c-dock-function/
LOCATION:LCYC Clubhouse\, 1161 Melrose Rd\, Lottsburg\, VA\, 22435\, United States
END:VEVENT
BEGIN:VEVENT
DTSTART;TZID=America/New_York:20230520T170000
DTEND;TZID=America/New_York:20230520T220000
DTSTAMP:20260423T184350
CREATED:20230423T233744Z
LAST-MODIFIED:20230515T115307Z
UID:6908-1684602000-1684620000@www.lodgecreekyachtclub.com
SUMMARY:2023 Kentucky Derby Function (The 50th Anniversary of Secretariats Triple Crown Campaign)
DESCRIPTION:B Dock Proudly Presents The 50th Anniversary of Secretariats Triple Crown Campaign! \nJoin us at the Clubhouse on May 20th as we celebrate what many believe to be the greatest achievement in Triple Crown History!  There will be races to bet on\, Great Food and Drink\, and plenty of time to catch up with everyone! \n5:00 Happy Hour\n5:30 Club Meeting\nDinner to follow shortly after the meeting \nPlease only have one member of your party register for the function\, but be sure to provide accurate counts for all Adults and Kids when doing so.
URL:https://www.lodgecreekyachtclub.com/functions/2023-kentucky-derby-function/
LOCATION:LCYC Clubhouse\, 1161 Melrose Rd\, Lottsburg\, VA\, 22435\, United States
END:VEVENT
BEGIN:VEVENT
DTSTART;TZID=America/New_York:20230422T170000
DTEND;TZID=America/New_York:20230423T000000
DTSTAMP:20260423T184350
CREATED:20230403T231216Z
LAST-MODIFIED:20230412T160423Z
UID:6657-1682182800-1682208000@www.lodgecreekyachtclub.com
SUMMARY:Pot Luck Dinner
DESCRIPTION:Bring a dish to share!
URL:https://www.lodgecreekyachtclub.com/functions/pot-luck-dinner/
LOCATION:LCYC Clubhouse\, 1161 Melrose Rd\, Lottsburg\, VA\, 22435\, United States
END:VEVENT
END:VCALENDAR