BEGIN:VCALENDAR
VERSION:2.0
PRODID:-//Lodge Creek Yacht Club - ECPv6.15.20//NONSGML v1.0//EN
CALSCALE:GREGORIAN
METHOD:PUBLISH
X-ORIGINAL-URL:https://www.lodgecreekyachtclub.com
X-WR-CALDESC:Events for Lodge Creek Yacht Club
REFRESH-INTERVAL;VALUE=DURATION:PT1H
X-Robots-Tag:noindex
X-PUBLISHED-TTL:PT1H
BEGIN:VTIMEZONE
TZID:America/New_York
BEGIN:DAYLIGHT
TZOFFSETFROM:-0500
TZOFFSETTO:-0400
TZNAME:EDT
DTSTART:20240310T070000
END:DAYLIGHT
BEGIN:STANDARD
TZOFFSETFROM:-0400
TZOFFSETTO:-0500
TZNAME:EST
DTSTART:20241103T060000
END:STANDARD
BEGIN:DAYLIGHT
TZOFFSETFROM:-0500
TZOFFSETTO:-0400
TZNAME:EDT
DTSTART:20250309T070000
END:DAYLIGHT
BEGIN:STANDARD
TZOFFSETFROM:-0400
TZOFFSETTO:-0500
TZNAME:EST
DTSTART:20251102T060000
END:STANDARD
BEGIN:DAYLIGHT
TZOFFSETFROM:-0500
TZOFFSETTO:-0400
TZNAME:EDT
DTSTART:20260308T070000
END:DAYLIGHT
BEGIN:STANDARD
TZOFFSETFROM:-0400
TZOFFSETTO:-0500
TZNAME:EST
DTSTART:20261101T060000
END:STANDARD
BEGIN:DAYLIGHT
TZOFFSETFROM:-0500
TZOFFSETTO:-0400
TZNAME:EDT
DTSTART:20270314T070000
END:DAYLIGHT
BEGIN:STANDARD
TZOFFSETFROM:-0400
TZOFFSETTO:-0500
TZNAME:EST
DTSTART:20271107T060000
END:STANDARD
END:VTIMEZONE
BEGIN:VEVENT
DTSTART;TZID=America/New_York:20251011T160000
DTEND;TZID=America/New_York:20251011T200000
DTSTAMP:20260424T052207
CREATED:20250804T153712Z
LAST-MODIFIED:20250916T171102Z
UID:8410-1760198400-1760212800@www.lodgecreekyachtclub.com
SUMMARY:2025 D Dock Oyster Roast
DESCRIPTION:🗓️ Saturday October 19\, 2024 \n📍 LCYC Clubhouse \n🍹 Cocktail Hour: 4:00 PM \n🍽️ Dinner: 5:00 PM \nJoin us Saturday October 11 for the annual D Dock Oyster Roast!  Another fan favorite returns with a variety of options to keep you satisfied. \nFresh Steamed Oysters\, Fried Oysters\, Fried Chicken\, Macaroni & cheese\, Potato Salad\, Coleslaw\, & Desert. \nJoin us for great food\, friends\, & lasting memories! Let’s Get Fried Up! \n  \nPlease keep in mind that this function starts one hour earlier than normal due to the shorter days and anticipated cooler weather.
URL:https://www.lodgecreekyachtclub.com/functions/2025-d-dock-function/
LOCATION:LCYC Clubhouse\, 1161 Melrose Rd\, Lottsburg\, VA\, 22435\, United States
END:VEVENT
BEGIN:VEVENT
DTSTART;TZID=America/New_York:20251025T160000
DTEND;TZID=America/New_York:20251025T190000
DTSTAMP:20260424T052207
CREATED:20250813T124221Z
LAST-MODIFIED:20251014T164943Z
UID:8497-1761408000-1761418800@www.lodgecreekyachtclub.com
SUMMARY:2025 Halloween Dock Crawl
DESCRIPTION:🗓️ Saturday\, October 25\, 2025 \n⌚4:00pm \nBonus Function!  The LCYC Bridge decided to add one last function to the calendar this year: a Halloween Dock Crawl & Chili Cook off! \n🎃Dress up in your costumes and show your Halloween spirit!  Each dock will be preparing their version of Chili\, so come see they stack up! \n❗No registrations are required for this function.  Just show up and have a great time for our last function of the year!
URL:https://www.lodgecreekyachtclub.com/functions/2025-dock-crawl/
LOCATION:LCYC Clubhouse\, 1161 Melrose Rd\, Lottsburg\, VA\, 22435\, United States
END:VEVENT
BEGIN:VEVENT
DTSTART;TZID=America/New_York:20260424T180000
DTEND;TZID=America/New_York:20260424T210000
DTSTAMP:20260424T052207
CREATED:20260216T135929Z
LAST-MODIFIED:20260217T143941Z
UID:8738-1777053600-1777064400@www.lodgecreekyachtclub.com
SUMMARY:2026 LCYC COW- Commodore's Reception
DESCRIPTION:The 2026 Lodge Creek Yacht Club Change of Watch will be held at the Moose Lodge 917 in Callao. \nTickets are $55 per person for the entire weekend festivities. \n\n\nFriday April 24th 6:00-9:00 pm: Commodore’s Reception up at the LCYC Clubhouse!\nSaturday April 25th 2:00-3:00 pm: 2026 Annual Bridge Meeting at the LCYC Clubhouse\nSaturday April 25th 6:00 pm-11:00 pm: 2026 Lodge Creek Yacht Club Change of Watch Dinner & Dance – Callao Moose Lodge 917\nSunday April 26th 9:30-11:30 am: Blessing of the Fleet\, Flag Raising\, and Breakfast provided by your 2026 LCYC Bridge!\n\nI hope you all can make it to celebrate the end of a great season as well as the start of our 2026 season!
URL:https://www.lodgecreekyachtclub.com/functions/2026-lcyc-cow-commodores-reception/
LOCATION:LCYC Clubhouse\, 1161 Melrose Rd\, Lottsburg\, VA\, 22435\, United States
END:VEVENT
BEGIN:VEVENT
DTSTART;TZID=America/New_York:20260425T180000
DTEND;TZID=America/New_York:20260425T230000
DTSTAMP:20260424T052207
CREATED:20260216T140518Z
LAST-MODIFIED:20260320T171157Z
UID:8742-1777140000-1777158000@www.lodgecreekyachtclub.com
SUMMARY:2026 LCYC Change of Watch
DESCRIPTION:The 2026 Lodge Creek Yacht Club Change of Watch will be held at the Moose Lodge 917 in Callao. \nTickets are $55 per person for the entire weekend festivities. \n\n\nFriday April 24th 6:00-9:00 pm: Commodore’s Reception up at the LCYC Clubhouse!\nSaturday April 25th 2:00-3:00 pm: 2026 Annual Bridge Meeting at the LCYC Clubhouse\nSaturday April 25th 6:00 pm-11:00 pm: 2026 Lodge Creek Yacht Club Change of Watch Dinner & Dance – Callao Moose Lodge 917\nSunday April 26th 9:30-11:30 am: Blessing of the Fleet\, Flag Raising\, and Breakfast provided by your 2026 LCYC Bridge!\n\nI hope you all can make it to celebrate the end of a great season as well as the start of our 2026 season! \n\nPlease have your Registration forms and payment submitted to Treasurer Jamie Mullins no later than April 6\, 2026!  Mailing details are available on the last page of the form\, below. \n2026 LCYC COW Registration Form
URL:https://www.lodgecreekyachtclub.com/functions/2026-lcyc-change-of-watch/
LOCATION:Callao Moose Lodge\, 968 Northumberland Hwy\, Callao\, 22435\, United States
END:VEVENT
BEGIN:VEVENT
DTSTART;TZID=America/New_York:20260426T093000
DTEND;TZID=America/New_York:20260426T233000
DTSTAMP:20260424T052207
CREATED:20260216T143243Z
LAST-MODIFIED:20260217T172948Z
UID:8745-1777195800-1777246200@www.lodgecreekyachtclub.com
SUMMARY:2026 LCYC Blessing of the Fleet Breakfast
DESCRIPTION:We’ve weathered a historic winter and spring us soon upon us\, which means it’s almost time for the Blessing of the Fleet ceremonies!  Join us Sunday April 26 for the 2026 Blessing of the Fleet Ceremony and Breakfast! To round out our weekend of festivities\, the 2026 LCYC Bridge will host the ceremonies\, which will begin at 0930. Breakfast will be served when the ceremonies conclude\, approximately 1030 or so. We look forward to kicking off this season with you all soon!
URL:https://www.lodgecreekyachtclub.com/functions/2026-lcyc-blessing-of-the-fleet-breakfast/
LOCATION:LCYC Clubhouse\, 1161 Melrose Rd\, Lottsburg\, VA\, 22435\, United States
END:VEVENT
END:VCALENDAR