BEGIN:VCALENDAR
VERSION:2.0
PRODID:-//Lodge Creek Yacht Club - ECPv6.15.20//NONSGML v1.0//EN
CALSCALE:GREGORIAN
METHOD:PUBLISH
X-ORIGINAL-URL:https://www.lodgecreekyachtclub.com
X-WR-CALDESC:Events for Lodge Creek Yacht Club
REFRESH-INTERVAL;VALUE=DURATION:PT1H
X-Robots-Tag:noindex
X-PUBLISHED-TTL:PT1H
BEGIN:VTIMEZONE
TZID:America/New_York
BEGIN:DAYLIGHT
TZOFFSETFROM:-0500
TZOFFSETTO:-0400
TZNAME:EDT
DTSTART:20250309T070000
END:DAYLIGHT
BEGIN:STANDARD
TZOFFSETFROM:-0400
TZOFFSETTO:-0500
TZNAME:EST
DTSTART:20251102T060000
END:STANDARD
BEGIN:DAYLIGHT
TZOFFSETFROM:-0500
TZOFFSETTO:-0400
TZNAME:EDT
DTSTART:20260308T070000
END:DAYLIGHT
BEGIN:STANDARD
TZOFFSETFROM:-0400
TZOFFSETTO:-0500
TZNAME:EST
DTSTART:20261101T060000
END:STANDARD
BEGIN:DAYLIGHT
TZOFFSETFROM:-0500
TZOFFSETTO:-0400
TZNAME:EDT
DTSTART:20270314T070000
END:DAYLIGHT
BEGIN:STANDARD
TZOFFSETFROM:-0400
TZOFFSETTO:-0500
TZNAME:EST
DTSTART:20271107T060000
END:STANDARD
END:VTIMEZONE
BEGIN:VEVENT
DTSTART;TZID=America/New_York:20260424T180000
DTEND;TZID=America/New_York:20260424T210000
DTSTAMP:20260423T134322
CREATED:20260216T135929Z
LAST-MODIFIED:20260217T143941Z
UID:8738-1777053600-1777064400@www.lodgecreekyachtclub.com
SUMMARY:2026 LCYC COW- Commodore's Reception
DESCRIPTION:The 2026 Lodge Creek Yacht Club Change of Watch will be held at the Moose Lodge 917 in Callao. \nTickets are $55 per person for the entire weekend festivities. \n\n\nFriday April 24th 6:00-9:00 pm: Commodore’s Reception up at the LCYC Clubhouse!\nSaturday April 25th 2:00-3:00 pm: 2026 Annual Bridge Meeting at the LCYC Clubhouse\nSaturday April 25th 6:00 pm-11:00 pm: 2026 Lodge Creek Yacht Club Change of Watch Dinner & Dance – Callao Moose Lodge 917\nSunday April 26th 9:30-11:30 am: Blessing of the Fleet\, Flag Raising\, and Breakfast provided by your 2026 LCYC Bridge!\n\nI hope you all can make it to celebrate the end of a great season as well as the start of our 2026 season!
URL:https://www.lodgecreekyachtclub.com/functions/2026-lcyc-cow-commodores-reception/
LOCATION:LCYC Clubhouse\, 1161 Melrose Rd\, Lottsburg\, VA\, 22435\, United States
END:VEVENT
END:VCALENDAR