BEGIN:VCALENDAR
VERSION:2.0
PRODID:-//Lodge Creek Yacht Club - ECPv6.15.20//NONSGML v1.0//EN
CALSCALE:GREGORIAN
METHOD:PUBLISH
X-WR-CALNAME:Lodge Creek Yacht Club
X-ORIGINAL-URL:https://www.lodgecreekyachtclub.com
X-WR-CALDESC:Events for Lodge Creek Yacht Club
REFRESH-INTERVAL;VALUE=DURATION:PT1H
X-Robots-Tag:noindex
X-PUBLISHED-TTL:PT1H
BEGIN:VTIMEZONE
TZID:America/New_York
BEGIN:DAYLIGHT
TZOFFSETFROM:-0500
TZOFFSETTO:-0400
TZNAME:EDT
DTSTART:20240310T070000
END:DAYLIGHT
BEGIN:STANDARD
TZOFFSETFROM:-0400
TZOFFSETTO:-0500
TZNAME:EST
DTSTART:20241103T060000
END:STANDARD
BEGIN:DAYLIGHT
TZOFFSETFROM:-0500
TZOFFSETTO:-0400
TZNAME:EDT
DTSTART:20250309T070000
END:DAYLIGHT
BEGIN:STANDARD
TZOFFSETFROM:-0400
TZOFFSETTO:-0500
TZNAME:EST
DTSTART:20251102T060000
END:STANDARD
BEGIN:DAYLIGHT
TZOFFSETFROM:-0500
TZOFFSETTO:-0400
TZNAME:EDT
DTSTART:20260308T070000
END:DAYLIGHT
BEGIN:STANDARD
TZOFFSETFROM:-0400
TZOFFSETTO:-0500
TZNAME:EST
DTSTART:20261101T060000
END:STANDARD
END:VTIMEZONE
BEGIN:VEVENT
DTSTART;TZID=America/New_York:20251025T160000
DTEND;TZID=America/New_York:20251025T190000
DTSTAMP:20260423T235553
CREATED:20250813T124221Z
LAST-MODIFIED:20251014T164943Z
UID:8497-1761408000-1761418800@www.lodgecreekyachtclub.com
SUMMARY:2025 Halloween Dock Crawl
DESCRIPTION:🗓️ Saturday\, October 25\, 2025 \n⌚4:00pm \nBonus Function!  The LCYC Bridge decided to add one last function to the calendar this year: a Halloween Dock Crawl & Chili Cook off! \n🎃Dress up in your costumes and show your Halloween spirit!  Each dock will be preparing their version of Chili\, so come see they stack up! \n❗No registrations are required for this function.  Just show up and have a great time for our last function of the year!
URL:https://www.lodgecreekyachtclub.com/functions/2025-dock-crawl/
LOCATION:LCYC Clubhouse\, 1161 Melrose Rd\, Lottsburg\, VA\, 22435\, United States
END:VEVENT
END:VCALENDAR