BEGIN:VCALENDAR
VERSION:2.0
PRODID:-//Lodge Creek Yacht Club - ECPv6.15.20//NONSGML v1.0//EN
CALSCALE:GREGORIAN
METHOD:PUBLISH
X-WR-CALNAME:Lodge Creek Yacht Club
X-ORIGINAL-URL:https://www.lodgecreekyachtclub.com
X-WR-CALDESC:Events for Lodge Creek Yacht Club
REFRESH-INTERVAL;VALUE=DURATION:PT1H
X-Robots-Tag:noindex
X-PUBLISHED-TTL:PT1H
BEGIN:VTIMEZONE
TZID:America/New_York
BEGIN:DAYLIGHT
TZOFFSETFROM:-0500
TZOFFSETTO:-0400
TZNAME:EDT
DTSTART:20230312T070000
END:DAYLIGHT
BEGIN:STANDARD
TZOFFSETFROM:-0400
TZOFFSETTO:-0500
TZNAME:EST
DTSTART:20231105T060000
END:STANDARD
BEGIN:DAYLIGHT
TZOFFSETFROM:-0500
TZOFFSETTO:-0400
TZNAME:EDT
DTSTART:20240310T070000
END:DAYLIGHT
BEGIN:STANDARD
TZOFFSETFROM:-0400
TZOFFSETTO:-0500
TZNAME:EST
DTSTART:20241103T060000
END:STANDARD
BEGIN:DAYLIGHT
TZOFFSETFROM:-0500
TZOFFSETTO:-0400
TZNAME:EDT
DTSTART:20250309T070000
END:DAYLIGHT
BEGIN:STANDARD
TZOFFSETFROM:-0400
TZOFFSETTO:-0500
TZNAME:EST
DTSTART:20251102T060000
END:STANDARD
END:VTIMEZONE
BEGIN:VEVENT
DTSTART;TZID=America/New_York:20240901T110000
DTEND;TZID=America/New_York:20240901T140000
DTSTAMP:20260424T212114
CREATED:20240803T152223Z
LAST-MODIFIED:20240819T141737Z
UID:7877-1725188400-1725199200@www.lodgecreekyachtclub.com
SUMMARY:2024 Fleet Captain's Float In - Pirate Beach
DESCRIPTION:Join us again for the annual Fleet Captain’s Float In! \nSunday September 1\, 2024 \n11AM-2PM \nPirate Beach – Kinsale\, VA \nHamburgers\, Hot dogs\, and light refreshments served.  BYOB. \nSee you all there for a bone rattling time!
URL:https://www.lodgecreekyachtclub.com/functions/2024-fleet-captains-float-in/
LOCATION:Pirate Beach\, 2CHP+GWR Kinsale\, Virginia\, USA\, Kinsale\, VA\, United States
END:VEVENT
END:VCALENDAR